BEGIN:VCALENDAR
VERSION:2.0
PRODID:-//EO Detroit - ECPv6.15.15//NONSGML v1.0//EN
CALSCALE:GREGORIAN
METHOD:PUBLISH
X-ORIGINAL-URL:https://eodetroit.com
X-WR-CALDESC:Events for EO Detroit
REFRESH-INTERVAL;VALUE=DURATION:PT1H
X-Robots-Tag:noindex
X-PUBLISHED-TTL:PT1H
BEGIN:VTIMEZONE
TZID:America/Detroit
BEGIN:DAYLIGHT
TZOFFSETFROM:-0500
TZOFFSETTO:-0400
TZNAME:EDT
DTSTART:20240310T070000
END:DAYLIGHT
BEGIN:STANDARD
TZOFFSETFROM:-0400
TZOFFSETTO:-0500
TZNAME:EST
DTSTART:20241103T060000
END:STANDARD
BEGIN:DAYLIGHT
TZOFFSETFROM:-0500
TZOFFSETTO:-0400
TZNAME:EDT
DTSTART:20250309T070000
END:DAYLIGHT
BEGIN:STANDARD
TZOFFSETFROM:-0400
TZOFFSETTO:-0500
TZNAME:EST
DTSTART:20251102T060000
END:STANDARD
BEGIN:DAYLIGHT
TZOFFSETFROM:-0500
TZOFFSETTO:-0400
TZNAME:EDT
DTSTART:20260308T070000
END:DAYLIGHT
BEGIN:STANDARD
TZOFFSETFROM:-0400
TZOFFSETTO:-0500
TZNAME:EST
DTSTART:20261101T060000
END:STANDARD
BEGIN:DAYLIGHT
TZOFFSETFROM:-0500
TZOFFSETTO:-0400
TZNAME:EDT
DTSTART:20270314T070000
END:DAYLIGHT
BEGIN:STANDARD
TZOFFSETFROM:-0400
TZOFFSETTO:-0500
TZNAME:EST
DTSTART:20271107T060000
END:STANDARD
END:VTIMEZONE
BEGIN:VEVENT
DTSTART;TZID=America/Detroit:20251203T083000
DTEND;TZID=America/Detroit:20251203T120000
DTSTAMP:20260420T082801
CREATED:20251002T014415Z
LAST-MODIFIED:20251002T014419Z
UID:58659-1764750600-1764763200@eodetroit.com
SUMMARY:Learning Richard Walton-15 Nuggets of Sales
DESCRIPTION:Join us for a dynamic morning with Richard Walton tenured EO member from Cape Town\, South Africa\, and regional expert for the EO Accelerator program in MEPA. Richard has delivered high-impact talks to 15+ EO chapters in 12+ countries over the last 18 months\, earning an impressive EO Speaker Rating of 9.3 \n\n\n\nKey Takeaways \n\n\n\nRichard is known for bringing a fresh\, relationship-driven approach to sales in the modern age. His sessions are funny\, insightful\, and packed with actionable strategies designed for entrepreneurs. \n\n\n\nWhy Attend?“If you’re thinking\, ‘Oh no\, not another sales speaker\,’ I’d urge you to stop and spend 10 minutes talking to Richard. He has a fresh approach to selling—one that focuses on building relationships and falling in love with the art of sales. His talks are funny\, insightful\, and packed with actionable information. As an EO member himself\, he knows exactly what an EO audience needs.” Ingram Casey\, EO Member \n\n\n\n“One of the most worthwhile hours I’ve spent this year.” Rizanne Oosthuisen\, Women in Tech Finalist 2023 \n\n\n\nDon’t Miss It \n\n\n\nSeats are limited for this high-energy session.Reserve your spot now and level up your sales approach with EO Detroit! \n\n\n\nRegistration: Members\, Accelerators\, Strategic Alliance Partners and their Spouse/Life Partner or one guest.
URL:https://eodetroit.com/event/learning-richard-walton-15-nuggets-of-sales/
LOCATION:Michigan
CATEGORIES:Learning
ATTACH;FMTTYPE=image/png:https://eodetroit.com/wp-content/uploads/2025/10/Screenshot-159-e1759369436510.png
END:VEVENT
BEGIN:VEVENT
DTSTART;TZID=America/Detroit:20260119T080000
DTEND;TZID=America/Detroit:20260208T170000
DTSTAMP:20260420T082801
CREATED:20251218T153626Z
LAST-MODIFIED:20251218T161425Z
UID:58735-1768809600-1770570000@eodetroit.com
SUMMARY:Jumpstart January
DESCRIPTION:Join Jumpstart January and kick off your year with 21 days of practical learning\, expert-led virtual sessions\, and immediately applicable skills. As always\, the Jumpstart Series is a complimentary benefit to the EO community. \n\n\n\nThis January\, you can choose from three powerful learning labs designed for entrepreneurs\, teams\, and families: \n\n\n\n\nThe AI Marketing Lab\n\n\n\nThe Future of Work Lab\n\n\n\nThe Investment Lab\n\n\n\n\nReady to join us? Register now and reserve your spot in any (or all!) of our upcoming labs.
URL:https://eodetroit.com/event/jumpstart-january/
LOCATION:Michigan
CATEGORIES:Learning,Regional
ATTACH;FMTTYPE=image/jpeg:https://eodetroit.com/wp-content/uploads/2025/12/Jumpstart-January-e1766074450113.jpg
END:VEVENT
BEGIN:VEVENT
DTSTART;TZID=America/Detroit:20260226T180000
DTEND;TZID=America/Detroit:20260226T210000
DTSTAMP:20260420T082801
CREATED:20260129T153103Z
LAST-MODIFIED:20260223T152603Z
UID:58754-1772128800-1772139600@eodetroit.com
SUMMARY:Tools to Strengthen Your Connection & Build What’s Next Together
DESCRIPTION:Entrepreneurship is demanding—on your time\, energy\, and relationships. This interactive couple’s workshop\, With James & Rebecca Lockwood\, Founders of Thriving Couples and authors of The Cohesive Couple — a USA Today Featured Bestseller\, is designed to help you slow down\, reconnect\, and walk away with real tools you can use together\, not just inspiration for the moment.  \n\n\n\nEnjoy dinner and drinks while engaging in a guided\, 90–120-minute experience that blends meaningful conversation with practical frameworks—built in the spirit of EO favorites like Date Night With a Twist.What to Expect This is not a lecture. It’s a curated evening that balances connection\, reflection\, and action. \n\n\n\n\n*A brief\, relatable story to set the stage\n\n\n\n*An overview of the Relationship Operating System\n\n\n\n*The Life Wheel exercise to identify what’s thriving—and what needs attention\n\n\n\n*Choosing a Personal 90-Day Commitment as a couple\n\n\n\n*Optional Values Exercise (time permitting)\n\n\n\n*Closing reflection with clear\, actionable next steps couples can take together\n\n\n\n\n \n\n\n\nTakeaways \n\n\n\n\nA custom workbook for guided reflection\n\n\n\nThe 2-page Vision & Plan framework\n\n\n\nA copy of the authors’ book for each attendee\n\n\n\nTools couples can apply immediately—at home and in business\n\n\n\n\nWhy Attend: Because strong businesses are built by strong partnerships. This evening is about intentionally investing in your relationship—while enjoying great food\, drinks\, and meaningful connection. Come for the date night. \n\n\n\nLeave with clarity\, alignment\, and a shared plan for what’s next.
URL:https://eodetroit.com/event/tools-to-strengthen-your-connection-build-whats-next-together/
LOCATION:Michigan
CATEGORIES:Learning
ATTACH;FMTTYPE=image/png:https://eodetroit.com/wp-content/uploads/2026/01/b9fd311b-93d3-4de5-b746-c00cc0ba9d43.__CR00970600_PT0_SX970_V1___.png
END:VEVENT
BEGIN:VEVENT
DTSTART;TZID=America/Detroit:20260423T083000
DTEND;TZID=America/Detroit:20260423T123000
DTSTAMP:20260420T082801
CREATED:20260303T170458Z
LAST-MODIFIED:20260306T051005Z
UID:58797-1776933000-1776947400@eodetroit.com
SUMMARY:AI & The Future of Marketing featuring Scott Empringham
DESCRIPTION:Learning Event with Scott Empringham \n\n\n\nArtificial Intelligence isn’t coming — it’s already reshaping how we work\, market\, hire\, and grow. The real question is: are you using it strategically\, or just reacting to it? \n\n\n\nJoin EO Detroit for a hands-on learning experience withScott Empringham\, EO Member and EO-Certified Global Speaker\, as we explore how AI is transforming marketing and business operations in 2026 and beyond. \n\n\n\nThis interactive session will go beyond theory. You’ll walk away with practical tools\, real-world frameworks\, and clear strategies you can immediately implement in your business. \n\n\n\nWhat You’ll Gain\n\n\n\n• AI-driven workflow strategies to increase efficiency and save time• Smarter\, more intentional content and social media approaches• Tools to automate\, optimize\, and scale marketing efforts• Insight into where AI creates leverage — and where human judgment still wins• Real-world applications tailored specifically for entrepreneurs
URL:https://eodetroit.com/event/ai-the-future-of-marketing-featuring-scott-empringham/
LOCATION:Michigan
CATEGORIES:Learning
ATTACH;FMTTYPE=image/png:https://eodetroit.com/wp-content/uploads/2026/03/ChatGPT-Image-Mar-6-2026-12_04_26-AM.png
END:VEVENT
BEGIN:VEVENT
DTSTART;TZID=America/Detroit:20260527T090000
DTEND;TZID=America/Detroit:20260527T120000
DTSTAMP:20260420T082801
CREATED:20260415T150132Z
LAST-MODIFIED:20260415T150639Z
UID:58848-1779872400-1779883200@eodetroit.com
SUMMARY:Social Media Marketing with Jocelyn Ho\, the Rare Plant Fairy
DESCRIPTION:Learn the latest trends and best practices for social media marketing. Featuring EO Detroit’s own Jocelyn Ho\, Founder of Rare Plant Fairy\, Michigan’s premier grower of rare tropical houseplants. Jocelyn manages an impressive e-commerce business shipping worldwide with a powerful digital marketing program.
URL:https://eodetroit.com/event/social-media-marketing-with-jocelyn-ho-the-rare-plant-fairy/
LOCATION:Michigan
CATEGORIES:Learning
ATTACH;FMTTYPE=image/png:https://eodetroit.com/wp-content/uploads/2026/04/Screenshot-225.png
END:VEVENT
END:VCALENDAR