BEGIN:VCALENDAR
VERSION:2.0
PRODID:-//EO Detroit - ECPv6.15.15//NONSGML v1.0//EN
CALSCALE:GREGORIAN
METHOD:PUBLISH
X-ORIGINAL-URL:https://eodetroit.com
X-WR-CALDESC:Events for EO Detroit
REFRESH-INTERVAL;VALUE=DURATION:PT1H
X-Robots-Tag:noindex
X-PUBLISHED-TTL:PT1H
BEGIN:VTIMEZONE
TZID:America/Detroit
BEGIN:DAYLIGHT
TZOFFSETFROM:-0500
TZOFFSETTO:-0400
TZNAME:EDT
DTSTART:20240310T070000
END:DAYLIGHT
BEGIN:STANDARD
TZOFFSETFROM:-0400
TZOFFSETTO:-0500
TZNAME:EST
DTSTART:20241103T060000
END:STANDARD
BEGIN:DAYLIGHT
TZOFFSETFROM:-0500
TZOFFSETTO:-0400
TZNAME:EDT
DTSTART:20250309T070000
END:DAYLIGHT
BEGIN:STANDARD
TZOFFSETFROM:-0400
TZOFFSETTO:-0500
TZNAME:EST
DTSTART:20251102T060000
END:STANDARD
BEGIN:DAYLIGHT
TZOFFSETFROM:-0500
TZOFFSETTO:-0400
TZNAME:EDT
DTSTART:20260308T070000
END:DAYLIGHT
BEGIN:STANDARD
TZOFFSETFROM:-0400
TZOFFSETTO:-0500
TZNAME:EST
DTSTART:20261101T060000
END:STANDARD
BEGIN:DAYLIGHT
TZOFFSETFROM:-0500
TZOFFSETTO:-0400
TZNAME:EDT
DTSTART:20270314T070000
END:DAYLIGHT
BEGIN:STANDARD
TZOFFSETFROM:-0400
TZOFFSETTO:-0500
TZNAME:EST
DTSTART:20271107T060000
END:STANDARD
END:VTIMEZONE
BEGIN:VEVENT
DTSTART;TZID=America/Detroit:20250722T153000
DTEND;TZID=America/Detroit:20250722T180000
DTSTAMP:20260420T203442
CREATED:20250611T135414Z
LAST-MODIFIED:20250611T135415Z
UID:58532-1753198200-1753207200@eodetroit.com
SUMMARY:Longevity in the Boardroom with Dr. James Lewerenz
DESCRIPTION:In an era where health and vitality are paramount\, understanding the science behind longevity is more crucial than ever. Dr. James Lewerenz\, a board-certified physician in Family Practice and the founder of Longevity Health Institute\,  brings over two decades of experience in personalized\, functional medicine. His approach emphasizes treating the root causes of chronic diseases\, focusing on holistic wellness and preventive care.
URL:https://eodetroit.com/event/longevity-in-the-boardroom-with-dr-james-lewerenz/
LOCATION:Purple Squirrel \, 560 Kirts Blvd\, Suite 121\, Troy\, Michigan\, 48084
CATEGORIES:Learning
ATTACH;FMTTYPE=image/jpeg:https://eodetroit.com/wp-content/uploads/2025/06/Dr.-Lawrenze.jpg
END:VEVENT
BEGIN:VEVENT
DTSTART;TZID=America/Detroit:20250724T120000
DTEND;TZID=America/Detroit:20250724T140000
DTSTAMP:20260420T203442
CREATED:20250708T193333Z
LAST-MODIFIED:20250716T133521Z
UID:58574-1753358400-1753365600@eodetroit.com
SUMMARY:EO Mentorship Velocity: AI for the Modern Leader
DESCRIPTION:Lori McColl – A visionary in digital strategy and AI transformation\, Lori will guide us through how leaders can harness artificial intelligence to innovate\, lead with confidence\, and future-proof their organizations. \n\n\n\nJoin us for a powerful afternoon of mentorship\, learning\, and leadership insights tailored for EO members navigating the evolving AI landscape. \n\n\n\nLunch will be served. \n\n\n\nMembers Only. Spots are limited—RSVP today!
URL:https://eodetroit.com/event/eo-mentorship-velocity-meet-up/
LOCATION:WeWork\, 19 Clifford St.\, Detroit\, Michigan\, 48226
CATEGORIES:Learning
ATTACH;FMTTYPE=image/jpeg:https://eodetroit.com/wp-content/uploads/2025/07/Lori-McColl2.jpg
END:VEVENT
BEGIN:VEVENT
DTSTART;TZID=America/Detroit:20250820T080000
DTEND;TZID=America/Detroit:20250820T170000
DTSTAMP:20260420T203442
CREATED:20250703T101432Z
LAST-MODIFIED:20250703T101433Z
UID:58562-1755676800-1755709200@eodetroit.com
SUMMARY:Accelerator Quarterly Learning Day - CASH
DESCRIPTION:EOA Strategy Day for 25/26 with Facilitator Mike Bacile. \n\n\n\nDesigned to help participants understand and improve their cash flow\, profitability\, and overall financial health. \n\n\n\nMixer at Yard House (Troy) following event.
URL:https://eodetroit.com/event/accelerator-quarterly-learning-day-cash/
LOCATION:Farbman Sheffield Office Park – Conference\, 3290 W. Big Beaver\, 1st Floor Office Center\, Suite 195\, Troy\, Michigan\, 48084
CATEGORIES:Learning
ATTACH;FMTTYPE=image/jpeg:https://eodetroit.com/wp-content/uploads/2025/07/iStock-1297492947_small.jpg
END:VEVENT
BEGIN:VEVENT
DTSTART;TZID=America/Detroit:20250823T170000
DTEND;TZID=America/Detroit:20250823T220000
DTSTAMP:20260420T203442
CREATED:20250703T102329Z
LAST-MODIFIED:20250703T102452Z
UID:58567-1755968400-1755986400@eodetroit.com
SUMMARY:Break Through Barriers: Board Breaking • Arrow Breaking • Firewalking
DESCRIPTION:Step into a powerful evening of transformation. Break boards\, snap arrows\, and walk across fire—all designed to help you push past fear and unlock your full potential. \n\n\n\n• Board Breaking – Smash limiting beliefs.• Arrow Breaking – Confront doubt and break through it.• Firewalking – Turn fear into fuel.Dinner and drinks provided. \n\n\n\nStay after for a lakeside bonfire! Rain or shine – the event is ON. Parking: Please park tightly in the driveway and on the lawn (ok to block others in). Additional parking is available at the church across the street or on nearby side streets across Jefferson. \n\n\n\nRSVP Today – space is limited! Members Only.
URL:https://eodetroit.com/event/break-through-barriers-board-breaking-arrow-breaking-firewalking/
LOCATION:Board Members Residence\, 33064 Jefferson Ave\, St Clair Shores\, Michigan\, 48082
CATEGORIES:Learning
ATTACH;FMTTYPE=image/png:https://eodetroit.com/wp-content/uploads/2025/07/ChatGPT-Image-Jun-24-2025-09_45_22-AM-lr.png
END:VEVENT
BEGIN:VEVENT
DTSTART;TZID=America/Detroit:20250828T180000
DTEND;TZID=America/Detroit:20250828T200000
DTSTAMP:20260420T203442
CREATED:20250703T101004Z
LAST-MODIFIED:20250703T101006Z
UID:58557-1756404000-1756411200@eodetroit.com
SUMMARY:Women of EO Event - Charcuterie Boards & Conversation
DESCRIPTION:Join the Women of EO for an elegant and engaging evening of networking\, laughter\, and delicious bites. \n\n\n\nEnjoy a curated charcuterie experience while connecting with fellow EO women in a relaxed and beautiful setting. Whether you’re here for the cheese or the conversation\, it’s sure to be a delightful night. \n\n\n\nRSVP Today – space is limited! Members Only.
URL:https://eodetroit.com/event/women-of-eo-event-charcuterie-boards-conversation/
LOCATION:Cheese To Please\, 19583 Mack Ave\, Grosse Pointe Woods\, Michigan\, 48236
CATEGORIES:Learning
ATTACH;FMTTYPE=image/png:https://eodetroit.com/wp-content/uploads/2025/07/charcuterie-2.png
END:VEVENT
BEGIN:VEVENT
DTSTART;TZID=America/Detroit:20250916T140000
DTEND;TZID=America/Detroit:20250916T190000
DTSTAMP:20260420T203442
CREATED:20250728T145300Z
LAST-MODIFIED:20250728T145302Z
UID:58602-1758031200-1758049200@eodetroit.com
SUMMARY:SAP Test Drive to Success
DESCRIPTION:Buckle up for a high-octane afternoon of speed\, strategy\, and success. SAP Test Drive to Success is not your average business event\, it’s where adrenaline meets ambition. \n\n\n\nJoin EO Detroit and select SAP prospects as we take over the Skidpad for an unforgettable experience behind the wheel. Whether you’re mastering autocross precision or drifting\, this is your chance to test more than just your driving skills\, it’s about accelerating relationships\, exploring new partnerships\, and fueling high-performance thinking. \n\n\n\nStart Your Engines:	•	Autocross & drifting course open throughout the day	•	Prime networking with SAP prospects and EO Members	•	Casual garage hangout vibes with a polished EO twist \n\n\n\nFuel Up:	•	Catered eats by Ghost Modern Mexican – bold flavors to match the energy	•	Beer\, wine & assorted refreshments  \n\n\n\nLimited Availability Members Only – Reserve your spot today!
URL:https://eodetroit.com/event/sap-test-drive-to-success/
LOCATION:M1 Concourse\, 45399 Woodward Ave\, Pontiac\, Michigan\, 48341
CATEGORIES:Learning
ATTACH;FMTTYPE=image/jpeg:https://eodetroit.com/wp-content/uploads/2025/07/28758b95-bf68-f011-9761-0050569ee39e.jpg
END:VEVENT
BEGIN:VEVENT
DTSTART;TZID=America/Detroit:20250925T160000
DTEND;TZID=America/Detroit:20250925T193000
DTSTAMP:20260420T203442
CREATED:20250716T132936Z
LAST-MODIFIED:20250716T132937Z
UID:58591-1758816000-1758828600@eodetroit.com
SUMMARY:Test Drive with Keynote Speaker Speech Thomas
DESCRIPTION:Speech Thomas is the 2-time Grammy Award Winning founder and inspired leader of the 4X Platinum hip-hop collective Arrested Development. Speech and Arrested Development embody what Brave Leadership is all about and are a living\, breathing\, singing and jamming representation of what is possible when we dare to break the mold\, work together and DO DIFFERENTLY.
URL:https://eodetroit.com/event/test-drive-with-keynote-speaker-speech-thomas/
LOCATION:Garden Theater\, 3929 Woodward Ave\, Detroit\, Michigan\, 48201
CATEGORIES:Learning
ATTACH;FMTTYPE=image/jpeg:https://eodetroit.com/wp-content/uploads/2025/07/SPEECH-THOMASHeadshotcropped.jpg
END:VEVENT
BEGIN:VEVENT
DTSTART;TZID=America/Detroit:20251028T083000
DTEND;TZID=America/Detroit:20251028T120000
DTSTAMP:20260420T203442
CREATED:20251002T012206Z
LAST-MODIFIED:20251002T012207Z
UID:58646-1761640200-1761652800@eodetroit.com
SUMMARY:Getting the Right-Hand Right with Heather Stone
DESCRIPTION:Every great leader needs the right second-in-command to truly scale\, sell\, or step away. Getting the Right Hand Right equips CEOs with practical tools to build\, empower\, and optimize this critical role so leaders can focus on growth and impact. \n\n\n\nIn just the past 12 months\, Heather Stone’s workshop has transformed 1\,100+ organizations\, helping CEOs unlock new levels of performance and freedom. Now\, EO Detroit members have the opportunity to experience it firsthand. \n\n\n\nHeather Stone brings unmatched expertise as a leader\, educator\, and advisor:Four-time company president (most recent company named to the Inc. 5000 and Utah 100).Two-time business owner.PhD in Organizational Communication & MBA holder.Recognized as a Vistage 2024 Top Performer Speaker.Founder of Practical PhD\, specializing in second-in-command structures.Author of the upcoming book Getting the Right Hand Right.Trusted speaker for Vistage\, TEC Canada\, WPO\, YPO\, and CEO groups across North America. \n\n\n\nWhy Attend:Learn how to build a powerful CEO–Right Hand partnership.Discover frameworks to scale\, sell\, or step away with confidence.Gain actionable insights from a nationally recognized expert.Connect with EO Detroit peers and guests in a high-value learning experience. \n\n\n\nRegistration: Members and 1 Guest.
URL:https://eodetroit.com/event/getting-the-right-hand-right-with-heather-stone/
LOCATION:Michigan
CATEGORIES:Learning
ATTACH;FMTTYPE=image/jpeg:https://eodetroit.com/wp-content/uploads/2025/10/1743027143877-e1759368102662.jpg
END:VEVENT
BEGIN:VEVENT
DTSTART;TZID=America/Detroit:20251203T083000
DTEND;TZID=America/Detroit:20251203T120000
DTSTAMP:20260420T203442
CREATED:20251002T014415Z
LAST-MODIFIED:20251002T014419Z
UID:58659-1764750600-1764763200@eodetroit.com
SUMMARY:Learning Richard Walton-15 Nuggets of Sales
DESCRIPTION:Join us for a dynamic morning with Richard Walton tenured EO member from Cape Town\, South Africa\, and regional expert for the EO Accelerator program in MEPA. Richard has delivered high-impact talks to 15+ EO chapters in 12+ countries over the last 18 months\, earning an impressive EO Speaker Rating of 9.3 \n\n\n\nKey Takeaways \n\n\n\nRichard is known for bringing a fresh\, relationship-driven approach to sales in the modern age. His sessions are funny\, insightful\, and packed with actionable strategies designed for entrepreneurs. \n\n\n\nWhy Attend?“If you’re thinking\, ‘Oh no\, not another sales speaker\,’ I’d urge you to stop and spend 10 minutes talking to Richard. He has a fresh approach to selling—one that focuses on building relationships and falling in love with the art of sales. His talks are funny\, insightful\, and packed with actionable information. As an EO member himself\, he knows exactly what an EO audience needs.” Ingram Casey\, EO Member \n\n\n\n“One of the most worthwhile hours I’ve spent this year.” Rizanne Oosthuisen\, Women in Tech Finalist 2023 \n\n\n\nDon’t Miss It \n\n\n\nSeats are limited for this high-energy session.Reserve your spot now and level up your sales approach with EO Detroit! \n\n\n\nRegistration: Members\, Accelerators\, Strategic Alliance Partners and their Spouse/Life Partner or one guest.
URL:https://eodetroit.com/event/learning-richard-walton-15-nuggets-of-sales/
LOCATION:Michigan
CATEGORIES:Learning
ATTACH;FMTTYPE=image/png:https://eodetroit.com/wp-content/uploads/2025/10/Screenshot-159-e1759369436510.png
END:VEVENT
BEGIN:VEVENT
DTSTART;TZID=America/Detroit:20260119T080000
DTEND;TZID=America/Detroit:20260208T170000
DTSTAMP:20260420T203442
CREATED:20251218T153626Z
LAST-MODIFIED:20251218T161425Z
UID:58735-1768809600-1770570000@eodetroit.com
SUMMARY:Jumpstart January
DESCRIPTION:Join Jumpstart January and kick off your year with 21 days of practical learning\, expert-led virtual sessions\, and immediately applicable skills. As always\, the Jumpstart Series is a complimentary benefit to the EO community. \n\n\n\nThis January\, you can choose from three powerful learning labs designed for entrepreneurs\, teams\, and families: \n\n\n\n\nThe AI Marketing Lab\n\n\n\nThe Future of Work Lab\n\n\n\nThe Investment Lab\n\n\n\n\nReady to join us? Register now and reserve your spot in any (or all!) of our upcoming labs.
URL:https://eodetroit.com/event/jumpstart-january/
LOCATION:Michigan
CATEGORIES:Learning,Regional
ATTACH;FMTTYPE=image/jpeg:https://eodetroit.com/wp-content/uploads/2025/12/Jumpstart-January-e1766074450113.jpg
END:VEVENT
BEGIN:VEVENT
DTSTART;TZID=America/Detroit:20260226T180000
DTEND;TZID=America/Detroit:20260226T210000
DTSTAMP:20260420T203442
CREATED:20260129T153103Z
LAST-MODIFIED:20260223T152603Z
UID:58754-1772128800-1772139600@eodetroit.com
SUMMARY:Tools to Strengthen Your Connection & Build What’s Next Together
DESCRIPTION:Entrepreneurship is demanding—on your time\, energy\, and relationships. This interactive couple’s workshop\, With James & Rebecca Lockwood\, Founders of Thriving Couples and authors of The Cohesive Couple — a USA Today Featured Bestseller\, is designed to help you slow down\, reconnect\, and walk away with real tools you can use together\, not just inspiration for the moment.  \n\n\n\nEnjoy dinner and drinks while engaging in a guided\, 90–120-minute experience that blends meaningful conversation with practical frameworks—built in the spirit of EO favorites like Date Night With a Twist.What to Expect This is not a lecture. It’s a curated evening that balances connection\, reflection\, and action. \n\n\n\n\n*A brief\, relatable story to set the stage\n\n\n\n*An overview of the Relationship Operating System\n\n\n\n*The Life Wheel exercise to identify what’s thriving—and what needs attention\n\n\n\n*Choosing a Personal 90-Day Commitment as a couple\n\n\n\n*Optional Values Exercise (time permitting)\n\n\n\n*Closing reflection with clear\, actionable next steps couples can take together\n\n\n\n\n \n\n\n\nTakeaways \n\n\n\n\nA custom workbook for guided reflection\n\n\n\nThe 2-page Vision & Plan framework\n\n\n\nA copy of the authors’ book for each attendee\n\n\n\nTools couples can apply immediately—at home and in business\n\n\n\n\nWhy Attend: Because strong businesses are built by strong partnerships. This evening is about intentionally investing in your relationship—while enjoying great food\, drinks\, and meaningful connection. Come for the date night. \n\n\n\nLeave with clarity\, alignment\, and a shared plan for what’s next.
URL:https://eodetroit.com/event/tools-to-strengthen-your-connection-build-whats-next-together/
LOCATION:Michigan
CATEGORIES:Learning
ATTACH;FMTTYPE=image/png:https://eodetroit.com/wp-content/uploads/2026/01/b9fd311b-93d3-4de5-b746-c00cc0ba9d43.__CR00970600_PT0_SX970_V1___.png
END:VEVENT
BEGIN:VEVENT
DTSTART;TZID=America/Detroit:20260423T083000
DTEND;TZID=America/Detroit:20260423T123000
DTSTAMP:20260420T203442
CREATED:20260303T170458Z
LAST-MODIFIED:20260306T051005Z
UID:58797-1776933000-1776947400@eodetroit.com
SUMMARY:AI & The Future of Marketing featuring Scott Empringham
DESCRIPTION:Learning Event with Scott Empringham \n\n\n\nArtificial Intelligence isn’t coming — it’s already reshaping how we work\, market\, hire\, and grow. The real question is: are you using it strategically\, or just reacting to it? \n\n\n\nJoin EO Detroit for a hands-on learning experience withScott Empringham\, EO Member and EO-Certified Global Speaker\, as we explore how AI is transforming marketing and business operations in 2026 and beyond. \n\n\n\nThis interactive session will go beyond theory. You’ll walk away with practical tools\, real-world frameworks\, and clear strategies you can immediately implement in your business. \n\n\n\nWhat You’ll Gain\n\n\n\n• AI-driven workflow strategies to increase efficiency and save time• Smarter\, more intentional content and social media approaches• Tools to automate\, optimize\, and scale marketing efforts• Insight into where AI creates leverage — and where human judgment still wins• Real-world applications tailored specifically for entrepreneurs
URL:https://eodetroit.com/event/ai-the-future-of-marketing-featuring-scott-empringham/
LOCATION:Michigan
CATEGORIES:Learning
ATTACH;FMTTYPE=image/png:https://eodetroit.com/wp-content/uploads/2026/03/ChatGPT-Image-Mar-6-2026-12_04_26-AM.png
END:VEVENT
BEGIN:VEVENT
DTSTART;TZID=America/Detroit:20260527T090000
DTEND;TZID=America/Detroit:20260527T120000
DTSTAMP:20260420T203442
CREATED:20260415T150132Z
LAST-MODIFIED:20260415T150639Z
UID:58848-1779872400-1779883200@eodetroit.com
SUMMARY:Social Media Marketing with Jocelyn Ho\, the Rare Plant Fairy
DESCRIPTION:Learn the latest trends and best practices for social media marketing. Featuring EO Detroit’s own Jocelyn Ho\, Founder of Rare Plant Fairy\, Michigan’s premier grower of rare tropical houseplants. Jocelyn manages an impressive e-commerce business shipping worldwide with a powerful digital marketing program.
URL:https://eodetroit.com/event/social-media-marketing-with-jocelyn-ho-the-rare-plant-fairy/
LOCATION:Michigan
CATEGORIES:Learning
ATTACH;FMTTYPE=image/png:https://eodetroit.com/wp-content/uploads/2026/04/Screenshot-225.png
END:VEVENT
END:VCALENDAR