BEGIN:VCALENDAR
VERSION:2.0
PRODID:-//EO Detroit - ECPv6.15.15//NONSGML v1.0//EN
CALSCALE:GREGORIAN
METHOD:PUBLISH
X-WR-CALNAME:EO Detroit
X-ORIGINAL-URL:https://eodetroit.com
X-WR-CALDESC:Events for EO Detroit
REFRESH-INTERVAL;VALUE=DURATION:PT1H
X-Robots-Tag:noindex
X-PUBLISHED-TTL:PT1H
BEGIN:VTIMEZONE
TZID:America/Detroit
BEGIN:DAYLIGHT
TZOFFSETFROM:-0500
TZOFFSETTO:-0400
TZNAME:EDT
DTSTART:20240310T070000
END:DAYLIGHT
BEGIN:STANDARD
TZOFFSETFROM:-0400
TZOFFSETTO:-0500
TZNAME:EST
DTSTART:20241103T060000
END:STANDARD
BEGIN:DAYLIGHT
TZOFFSETFROM:-0500
TZOFFSETTO:-0400
TZNAME:EDT
DTSTART:20250309T070000
END:DAYLIGHT
BEGIN:STANDARD
TZOFFSETFROM:-0400
TZOFFSETTO:-0500
TZNAME:EST
DTSTART:20251102T060000
END:STANDARD
BEGIN:DAYLIGHT
TZOFFSETFROM:-0500
TZOFFSETTO:-0400
TZNAME:EDT
DTSTART:20260308T070000
END:DAYLIGHT
BEGIN:STANDARD
TZOFFSETFROM:-0400
TZOFFSETTO:-0500
TZNAME:EST
DTSTART:20261101T060000
END:STANDARD
END:VTIMEZONE
BEGIN:VEVENT
DTSTART;TZID=America/Detroit:20250123T123000
DTEND;TZID=America/Detroit:20250123T140000
DTSTAMP:20260420T092330
CREATED:20241220T183411Z
LAST-MODIFIED:20250113T172522Z
UID:58468-1737635400-1737640800@eodetroit.com
SUMMARY:In the Board Room With John Anderson
DESCRIPTION:We’re excited to welcome an EO Detroit legend to speak to our members during this intimate event! The Founder of our Chapter\, First EO Detroit President and inaugural inductee of our EO Detroit Entrepreneur Hall of Fame will share his extraordinary journey with us. \n\n\n\nFor two decades\, John has inspired and challenged leaders to achieve their greatest personal potential by helping CEOs and executive teams develop clear\, measurable\, and defined goals. John was the first coach to work with Verne Harnish in what is now the industry leading ScalingUp® organization. He started his career at IBM before building and selling a MI based office furniture dealership. Today he holds equity in multiple entrepreneurial ventures. John’s book\, Replace Retirement: Living Your Legacy in the Exponential Age\, published in 2019.  \n\n\n\nLunch will be served.  \n\n\n\nExclusively for EO Detroit Members and Strategic Alliance Partners
URL:https://eodetroit.com/event/in-the-board-room-with-john-anderson/
LOCATION:Sheffield Office Park\, 3290 W. Big Beaver\, Suite 195\, Troy\, Michigan\, 48084
CATEGORIES:Learning
ATTACH;FMTTYPE=image/jpeg:https://eodetroit.com/wp-content/uploads/2024/12/DSC_5919.jpg
END:VEVENT
END:VCALENDAR