BEGIN:VCALENDAR
VERSION:2.0
PRODID:-//EO Detroit - ECPv6.15.15//NONSGML v1.0//EN
CALSCALE:GREGORIAN
METHOD:PUBLISH
X-ORIGINAL-URL:https://eodetroit.com
X-WR-CALDESC:Events for EO Detroit
REFRESH-INTERVAL;VALUE=DURATION:PT1H
X-Robots-Tag:noindex
X-PUBLISHED-TTL:PT1H
BEGIN:VTIMEZONE
TZID:America/Detroit
BEGIN:DAYLIGHT
TZOFFSETFROM:-0500
TZOFFSETTO:-0400
TZNAME:EDT
DTSTART:20230312T070000
END:DAYLIGHT
BEGIN:STANDARD
TZOFFSETFROM:-0400
TZOFFSETTO:-0500
TZNAME:EST
DTSTART:20231105T060000
END:STANDARD
BEGIN:DAYLIGHT
TZOFFSETFROM:-0500
TZOFFSETTO:-0400
TZNAME:EDT
DTSTART:20240310T070000
END:DAYLIGHT
BEGIN:STANDARD
TZOFFSETFROM:-0400
TZOFFSETTO:-0500
TZNAME:EST
DTSTART:20241103T060000
END:STANDARD
BEGIN:DAYLIGHT
TZOFFSETFROM:-0500
TZOFFSETTO:-0400
TZNAME:EDT
DTSTART:20250309T070000
END:DAYLIGHT
BEGIN:STANDARD
TZOFFSETFROM:-0400
TZOFFSETTO:-0500
TZNAME:EST
DTSTART:20251102T060000
END:STANDARD
END:VTIMEZONE
BEGIN:VEVENT
DTSTART;TZID=America/Detroit:20240910T120000
DTEND;TZID=America/Detroit:20240910T143000
DTSTAMP:20260420T152928
CREATED:20240710T172805Z
LAST-MODIFIED:20240819T223723Z
UID:58348-1725969600-1725978600@eodetroit.com
SUMMARY:Dr. Marcus Collins – Eat Your Breakfast – Unlock the Influence of Culture
DESCRIPTION:Expand & Evolve Focus: BusinessWhy Attend? To understand the culture of your customers to best serve themDr. Collins is the author best-selling book\, For the Culture\, an American Advertising Federation Hall of Fame Inductee\, the Former Digital Strategist for Beyonce\, a Forbes CMO columnist and University of Michigan Marketing Professor. He will demonstrate how to move people through intimately understanding the inner workings of culture. Whatever the culture segment\, he will discuss: \n\n\n\n• Why culture is more important than demographics/psychographics when measuring customer intent and behavior?• What affect culture has on your business?• What you can do to harness its power to get people to buy/donate/refer/take action
URL:https://eodetroit.com/event/dr-marcus-collins-eat-your-breakfast-unlock-the-influence-of-culture/
LOCATION:Cambria Hotel Detroit\, 600 W Lafayette Blvd.\, Detroit\, Michigan\, 48226
CATEGORIES:Learning
ATTACH;FMTTYPE=image/jpeg:https://eodetroit.com/wp-content/uploads/2024/07/210e0f04-8138-ef11-974f-005056aaa4de.jpg
END:VEVENT
END:VCALENDAR