BEGIN:VCALENDAR
VERSION:2.0
PRODID:-//EO Detroit - ECPv6.15.15//NONSGML v1.0//EN
CALSCALE:GREGORIAN
METHOD:PUBLISH
X-WR-CALNAME:EO Detroit
X-ORIGINAL-URL:https://eodetroit.com
X-WR-CALDESC:Events for EO Detroit
REFRESH-INTERVAL;VALUE=DURATION:PT1H
X-Robots-Tag:noindex
X-PUBLISHED-TTL:PT1H
BEGIN:VTIMEZONE
TZID:America/Detroit
BEGIN:DAYLIGHT
TZOFFSETFROM:-0500
TZOFFSETTO:-0400
TZNAME:EDT
DTSTART:20240310T070000
END:DAYLIGHT
BEGIN:STANDARD
TZOFFSETFROM:-0400
TZOFFSETTO:-0500
TZNAME:EST
DTSTART:20241103T060000
END:STANDARD
BEGIN:DAYLIGHT
TZOFFSETFROM:-0500
TZOFFSETTO:-0400
TZNAME:EDT
DTSTART:20250309T070000
END:DAYLIGHT
BEGIN:STANDARD
TZOFFSETFROM:-0400
TZOFFSETTO:-0500
TZNAME:EST
DTSTART:20251102T060000
END:STANDARD
BEGIN:DAYLIGHT
TZOFFSETFROM:-0500
TZOFFSETTO:-0400
TZNAME:EDT
DTSTART:20260308T070000
END:DAYLIGHT
BEGIN:STANDARD
TZOFFSETFROM:-0400
TZOFFSETTO:-0500
TZNAME:EST
DTSTART:20261101T060000
END:STANDARD
END:VTIMEZONE
BEGIN:VEVENT
DTSTART;TZID=America/Detroit:20250320T083000
DTEND;TZID=America/Detroit:20250320T133000
DTSTAMP:20260420T050710
CREATED:20250515T163952Z
LAST-MODIFIED:20250515T163953Z
UID:58518-1742459400-1742477400@eodetroit.com
SUMMARY:Coach Bob Shenefelt: 6 Habits to a Great Flipping Forum
DESCRIPTION:Member of EO Detroit for nearly 30 years and past President\, Bob was also on several other board seats\, including Forum Chair\, and the Eastern Region Forum Chair. He is also the founder of The Visionary Forum\, iMatter Life Operating System. His EO Forum has been together for 28 years!By combining Coach Bob’s experience with practical tools and the right mindset\, participants will be well-equipped to lead their own successful forums.The breakout forum session will be especially valuable\, as it allows for hands-on practice and real-time application of what’s been learned. You’ll be able to refine your skills and elevate your forum leadership capabilities.Come have fun with your forum and your EO chapter and learn some tools for your forum and for your life!
URL:https://eodetroit.com/event/coach-bob-shenefelt-6-habits-to-a-great-flipping-forum/
LOCATION:Detroit Athletic Club\, 241 Madison St.\, Detroit\, MI\, 48226\, United States
CATEGORIES:Learning
ATTACH;FMTTYPE=image/jpeg:https://eodetroit.com/wp-content/uploads/2025/05/f638edd8-56df-ef11-975d-0050569ee39e.jpg
END:VEVENT
END:VCALENDAR