BEGIN:VCALENDAR
VERSION:2.0
PRODID:-//EO Detroit - ECPv6.15.15//NONSGML v1.0//EN
CALSCALE:GREGORIAN
METHOD:PUBLISH
X-WR-CALNAME:EO Detroit
X-ORIGINAL-URL:https://eodetroit.com
X-WR-CALDESC:Events for EO Detroit
REFRESH-INTERVAL;VALUE=DURATION:PT1H
X-Robots-Tag:noindex
X-PUBLISHED-TTL:PT1H
BEGIN:VTIMEZONE
TZID:America/Detroit
BEGIN:DAYLIGHT
TZOFFSETFROM:-0500
TZOFFSETTO:-0400
TZNAME:EDT
DTSTART:20240310T070000
END:DAYLIGHT
BEGIN:STANDARD
TZOFFSETFROM:-0400
TZOFFSETTO:-0500
TZNAME:EST
DTSTART:20241103T060000
END:STANDARD
BEGIN:DAYLIGHT
TZOFFSETFROM:-0500
TZOFFSETTO:-0400
TZNAME:EDT
DTSTART:20250309T070000
END:DAYLIGHT
BEGIN:STANDARD
TZOFFSETFROM:-0400
TZOFFSETTO:-0500
TZNAME:EST
DTSTART:20251102T060000
END:STANDARD
BEGIN:DAYLIGHT
TZOFFSETFROM:-0500
TZOFFSETTO:-0400
TZNAME:EDT
DTSTART:20260308T070000
END:DAYLIGHT
BEGIN:STANDARD
TZOFFSETFROM:-0400
TZOFFSETTO:-0500
TZNAME:EST
DTSTART:20261101T060000
END:STANDARD
END:VTIMEZONE
BEGIN:VEVENT
DTSTART;TZID=America/Detroit:20250116T140000
DTEND;TZID=America/Detroit:20250116T190000
DTSTAMP:20260420T080909
CREATED:20241022T192233Z
LAST-MODIFIED:20241023T135127Z
UID:58455-1737036000-1737054000@eodetroit.com
SUMMARY:EO Detroit Prospective Member Test Drive and Jamie Metzl Keynote
DESCRIPTION:Business owners! \n\n\n\nJoin us for an EO Test Drive\, where you’ll experience firsthand the transformative power of the Entrepreneurs’ Organization. During this exclusive event\, current EO members will share personal stories about how EO has impacted their businesses\, enriched their lives\, and provided a supportive community of like-minded entrepreneurs. Hear how EO fosters both personal and professional growth through its unique network and global resources. \n\n\n\nThe second part of the event features a captivating keynote from renowned futurist Jamie Metzl. He’ll dive into the fascinating world of AI\, genetics\, and biotechnology\, exploring how these revolutions will shape the future of our work\, lives\, and world. You’ll walk away with fresh insights on the cutting-edge trends transforming industries today. \n\n\n\nIf you’re curious about how EO can accelerate your entrepreneurial journey and prepare you for the future\, this is the perfect opportunity to explore. Don’t miss out—secure your spot today!
URL:https://eodetroit.com/event/eo-detroit-prospective-member-test-drive-and-jamie-metzl-keynote/
LOCATION:The Ford House\, 1100 Lake Shore Road\, Grosse Pointe Shores\, Michigan\, 48236
CATEGORIES:Learning
ATTACH;FMTTYPE=image/jpeg:https://eodetroit.com/wp-content/uploads/2024/10/Test-Drive-photo-1.jpg
END:VEVENT
BEGIN:VEVENT
DTSTART;TZID=America/Detroit:20250116T160000
DTEND;TZID=America/Detroit:20250116T193000
DTSTAMP:20260420T080909
CREATED:20240715T182911Z
LAST-MODIFIED:20241221T223748Z
UID:58379-1737043200-1737055800@eodetroit.com
SUMMARY:Jamie Metzl: Super Convergence - How the AI\, Genetics\, and Biotechnology Revolutions will Transform our Lives\, Work\, and World
DESCRIPTION:Expand & Evolve Focus: Mind & Business \n\n\n\nThe rapid growth of new AI systems like ChatGPT and Google Bard have made most people realize significant change is on the horizon. But while most people still think of these AI capabilities as improved internet search tools\, the implications are far more profound. Jamie Metzl is one of the world’s leading experts on the implications of the intersecting AI\, genetics\, and biotechnology revolutions. In this both far-reaching and highly practical talk\, leading futurist Jamie Metzl explores the big picture implications of this transformative moment in human history and how individuals\, companies\, and societies can best ride the wave of this change rather than be subsumed by it. \n\n\n\nMembers\, Accelerators and Strategic Alliance Partners are welcome to bring one guest. Lunch will be served.
URL:https://eodetroit.com/event/jamie-metzl-super-convergencehow-the-ai-genetics-and-biotechnology-revolutions-will-transform-our-lives-work-and-world-2/
CATEGORIES:Learning
ATTACH;FMTTYPE=image/jpeg:https://eodetroit.com/wp-content/uploads/2024/07/Jamie-Metzl2.jpg
END:VEVENT
BEGIN:VEVENT
DTSTART;TZID=America/Detroit:20250123T123000
DTEND;TZID=America/Detroit:20250123T140000
DTSTAMP:20260420T080909
CREATED:20241220T183411Z
LAST-MODIFIED:20250113T172522Z
UID:58468-1737635400-1737640800@eodetroit.com
SUMMARY:In the Board Room With John Anderson
DESCRIPTION:We’re excited to welcome an EO Detroit legend to speak to our members during this intimate event! The Founder of our Chapter\, First EO Detroit President and inaugural inductee of our EO Detroit Entrepreneur Hall of Fame will share his extraordinary journey with us. \n\n\n\nFor two decades\, John has inspired and challenged leaders to achieve their greatest personal potential by helping CEOs and executive teams develop clear\, measurable\, and defined goals. John was the first coach to work with Verne Harnish in what is now the industry leading ScalingUp® organization. He started his career at IBM before building and selling a MI based office furniture dealership. Today he holds equity in multiple entrepreneurial ventures. John’s book\, Replace Retirement: Living Your Legacy in the Exponential Age\, published in 2019.  \n\n\n\nLunch will be served.  \n\n\n\nExclusively for EO Detroit Members and Strategic Alliance Partners
URL:https://eodetroit.com/event/in-the-board-room-with-john-anderson/
LOCATION:Sheffield Office Park\, 3290 W. Big Beaver\, Suite 195\, Troy\, Michigan\, 48084
CATEGORIES:Learning
ATTACH;FMTTYPE=image/jpeg:https://eodetroit.com/wp-content/uploads/2024/12/DSC_5919.jpg
END:VEVENT
END:VCALENDAR