BEGIN:VCALENDAR
VERSION:2.0
PRODID:-//EO Detroit - ECPv6.15.15//NONSGML v1.0//EN
CALSCALE:GREGORIAN
METHOD:PUBLISH
X-ORIGINAL-URL:https://eodetroit.com
X-WR-CALDESC:Events for EO Detroit
REFRESH-INTERVAL;VALUE=DURATION:PT1H
X-Robots-Tag:noindex
X-PUBLISHED-TTL:PT1H
BEGIN:VTIMEZONE
TZID:America/Detroit
BEGIN:DAYLIGHT
TZOFFSETFROM:-0500
TZOFFSETTO:-0400
TZNAME:EDT
DTSTART:20230312T070000
END:DAYLIGHT
BEGIN:STANDARD
TZOFFSETFROM:-0400
TZOFFSETTO:-0500
TZNAME:EST
DTSTART:20231105T060000
END:STANDARD
BEGIN:DAYLIGHT
TZOFFSETFROM:-0500
TZOFFSETTO:-0400
TZNAME:EDT
DTSTART:20240310T070000
END:DAYLIGHT
BEGIN:STANDARD
TZOFFSETFROM:-0400
TZOFFSETTO:-0500
TZNAME:EST
DTSTART:20241103T060000
END:STANDARD
BEGIN:DAYLIGHT
TZOFFSETFROM:-0500
TZOFFSETTO:-0400
TZNAME:EDT
DTSTART:20250309T070000
END:DAYLIGHT
BEGIN:STANDARD
TZOFFSETFROM:-0400
TZOFFSETTO:-0500
TZNAME:EST
DTSTART:20251102T060000
END:STANDARD
END:VTIMEZONE
BEGIN:VEVENT
DTSTART;TZID=America/Detroit:20241001T163000
DTEND;TZID=America/Detroit:20241001T183000
DTSTAMP:20260420T122010
CREATED:20240930T173550Z
LAST-MODIFIED:20240930T173551Z
UID:58441-1727800200-1727807400@eodetroit.com
SUMMARY:Navigating Michigan's Legislative Landscape: Insights from Brian Calley on Business\, Policy & Economic Growth
DESCRIPTION:Join ACG Detroit & EO Detroit as we welcome President & CEO of the Small Business Association of Michigan\, Brian Calley\, as he shares his thoughts on the intersection of policy\, politics & business. Brian brings his unique perspective\, as the Former Lieutenant Governor of Michigan\, discussing how recent legislation may impact business outcomes\, including implications of the new paid sick leave & minimum wage regulations. Don’t miss this opportunity to stay informed and proactive in the face of changing policies and political climates. \n\n\n\nBrian Calley is a collaborative leader who combines the skills from an accomplished private sector career with an extensive record of public service and a reputation for getting things done. He is passionate about making the world work better for all people and uses an inclusive problem-solving approach to make a difference.
URL:https://eodetroit.com/event/navigating-michigans-legislative-landscape-insights-from-brian-calley-on-business-policy-economic-growth/
LOCATION:The Iroquois Club\, 43248 Woodward Ave\, Bloomfield Hills\, Michigan`\, 48302
CATEGORIES:Learning
ATTACH;FMTTYPE=image/jpeg:https://eodetroit.com/wp-content/uploads/2024/09/031adfe7-3cda-183f-0eed-d68e7af406a2.jpg
END:VEVENT
BEGIN:VEVENT
DTSTART;TZID=America/Detroit:20241008T160000
DTEND;TZID=America/Detroit:20241008T193000
DTSTAMP:20260420T122010
CREATED:20240710T173315Z
LAST-MODIFIED:20241002T140713Z
UID:58357-1728403200-1728415800@eodetroit.com
SUMMARY:Mallory Brown – Becoming a Changemaker: The Journey to Empathy\, Leadership & Making an Impact!
DESCRIPTION:Expand & Evolve Focus: Mind and BusinessWhy Attend? Learn to create a strong culture to propel your business forward Mallory is a filmmaker\, humanitarian\, and speaker and has traveled to 60+ countries to encourage a more compassionate\, connected world. This keynote is perfect for organizations that prioritize positive workplace culture\, corporate social responsibility\, and the emotional development of their team. As a result of this program\, attendees will: \n\n\n\n• Start to act like leaders and catalysts for change• Build a culture that encourages empathy and openness• Renew their collective sense of purpose with an aligned\, invigorated corporate mission
URL:https://eodetroit.com/event/mallory-brown-becoming-a-changemaker-the-journey-to-empathy-leadership-making-an-impact/
LOCATION:Royal Park Hotel\, 600 East University Drive\, Rochester\, Michigan\, 48307
CATEGORIES:Learning
ATTACH;FMTTYPE=image/jpeg:https://eodetroit.com/wp-content/uploads/2024/07/Mallory-Brown4.jpg
END:VEVENT
BEGIN:VEVENT
DTSTART;TZID=America/Detroit:20241023T150000
DTEND;TZID=America/Detroit:20241023T190000
DTSTAMP:20260420T122010
CREATED:20240821T002356Z
LAST-MODIFIED:20241001T125033Z
UID:58398-1729695600-1729710000@eodetroit.com
SUMMARY:Entrepreneurial Armor: Expert Insight on Fraud\, Embezzlement and Cyberattack Prevention
DESCRIPTION:The recent Detroit Riverfront Conservancy embezzlement scandal serves as a stark reminder of the importance of vigilance in business operations.  \n\n\n\nJoin us for an event for EO Members who want to safeguard their businesses against the rising tide of fraud\, embezzlement and cyberattacks. This event will feature four EO Detroit members (Jacki Smith\, Mark Winter\, Todd Rammler\, & Rob Cote) who will share their personal experience or experiences common among their clients regarding fraud\, embezzlement or cyberattack. In addition\, our group of experts (FMD CPAs & Strategic Advisors\, Chase Bank\, Michigan CFO Associates & Security Vitals) will discuss red flags and the key steps you should take to safeguard your business from an accounting/finance\, banking and cybersecurity standpoint.  \n\n\n\nEach Member\, Accelerator and Strategic Alliance Partner is encouraged to bring a Key Executive. Cocktails and a Strolling Supper Afterglow will cap off our evening.
URL:https://eodetroit.com/event/entrepreneurial-armorexpert-insight-on-fraud-embezzlement-and-cyberattack-prevention/
LOCATION:Community House – Birmingham\, 380 S. Bates Street\, Birmingham\, Michigan\, 48009
CATEGORIES:Learning
ATTACH;FMTTYPE=image/jpeg:https://eodetroit.com/wp-content/uploads/2024/08/iStock-481634858.jpg
END:VEVENT
END:VCALENDAR