BEGIN:VCALENDAR
VERSION:2.0
PRODID:-//EO Detroit - ECPv6.15.15//NONSGML v1.0//EN
CALSCALE:GREGORIAN
METHOD:PUBLISH
X-WR-CALNAME:EO Detroit
X-ORIGINAL-URL:https://eodetroit.com
X-WR-CALDESC:Events for EO Detroit
REFRESH-INTERVAL;VALUE=DURATION:PT1H
X-Robots-Tag:noindex
X-PUBLISHED-TTL:PT1H
BEGIN:VTIMEZONE
TZID:America/Detroit
BEGIN:DAYLIGHT
TZOFFSETFROM:-0500
TZOFFSETTO:-0400
TZNAME:EDT
DTSTART:20230312T070000
END:DAYLIGHT
BEGIN:STANDARD
TZOFFSETFROM:-0400
TZOFFSETTO:-0500
TZNAME:EST
DTSTART:20231105T060000
END:STANDARD
BEGIN:DAYLIGHT
TZOFFSETFROM:-0500
TZOFFSETTO:-0400
TZNAME:EDT
DTSTART:20240310T070000
END:DAYLIGHT
BEGIN:STANDARD
TZOFFSETFROM:-0400
TZOFFSETTO:-0500
TZNAME:EST
DTSTART:20241103T060000
END:STANDARD
BEGIN:DAYLIGHT
TZOFFSETFROM:-0500
TZOFFSETTO:-0400
TZNAME:EDT
DTSTART:20250309T070000
END:DAYLIGHT
BEGIN:STANDARD
TZOFFSETFROM:-0400
TZOFFSETTO:-0500
TZNAME:EST
DTSTART:20251102T060000
END:STANDARD
END:VTIMEZONE
BEGIN:VEVENT
DTSTART;TZID=America/Detroit:20240515T083000
DTEND;TZID=America/Detroit:20240515T163000
DTSTAMP:20260422T130959
CREATED:20240426T123034Z
LAST-MODIFIED:20240426T123329Z
UID:58323-1715761800-1715790600@eodetroit.com
SUMMARY:Accelerator Learning Day: Execution With Guest Speakers Shonna Amos and Mykeya Latice
DESCRIPTION:EOA Champion Jason Brown has worked to level up our Quarterly Days with fresh content and guest speakers. EO Detroit Members are encouraged to join our Accelerator Family for this lMykeya Laticeience. EOA Trainer Michael Hobbs will be joined by guest speakers Shonna Amos and Mykeya Latice.  \n\n\n\nSpeaker Topics: Executive Coach Shonna Amos will speak on the most effective way to execute through your DISC profile leadership style. Media Specialist Mykeya Latice will present her expertise on podcasts and story telling\, helping our Members and Accelerators on getting their message out into the market place. To learn more about our guest speakers\, please visit the Event Registration Page (link below).
URL:https://eodetroit.com/event/accelerator-learning-day-executionwith-guest-speakers-shonna-amos-and-mykeya-latice/
LOCATION:Sheffield Office Park\, 3290 W. Big Beaver\, Suite 195\, Troy\, Michigan\, 48084
CATEGORIES:Accelerator
ATTACH;FMTTYPE=image/jpeg:https://eodetroit.com/wp-content/uploads/2024/04/EOA-web.jpg
END:VEVENT
END:VCALENDAR