BEGIN:VCALENDAR
VERSION:2.0
PRODID:-//EO Detroit - ECPv6.15.15//NONSGML v1.0//EN
CALSCALE:GREGORIAN
METHOD:PUBLISH
X-WR-CALNAME:EO Detroit
X-ORIGINAL-URL:https://eodetroit.com
X-WR-CALDESC:Events for EO Detroit
REFRESH-INTERVAL;VALUE=DURATION:PT1H
X-Robots-Tag:noindex
X-PUBLISHED-TTL:PT1H
BEGIN:VTIMEZONE
TZID:America/Detroit
BEGIN:DAYLIGHT
TZOFFSETFROM:-0500
TZOFFSETTO:-0400
TZNAME:EDT
DTSTART:20250309T070000
END:DAYLIGHT
BEGIN:STANDARD
TZOFFSETFROM:-0400
TZOFFSETTO:-0500
TZNAME:EST
DTSTART:20251102T060000
END:STANDARD
BEGIN:DAYLIGHT
TZOFFSETFROM:-0500
TZOFFSETTO:-0400
TZNAME:EDT
DTSTART:20260308T070000
END:DAYLIGHT
BEGIN:STANDARD
TZOFFSETFROM:-0400
TZOFFSETTO:-0500
TZNAME:EST
DTSTART:20261101T060000
END:STANDARD
BEGIN:DAYLIGHT
TZOFFSETFROM:-0500
TZOFFSETTO:-0400
TZNAME:EDT
DTSTART:20270314T070000
END:DAYLIGHT
BEGIN:STANDARD
TZOFFSETFROM:-0400
TZOFFSETTO:-0500
TZNAME:EST
DTSTART:20271107T060000
END:STANDARD
END:VTIMEZONE
BEGIN:VEVENT
DTSTART;TZID=America/Detroit:20260610T180000
DTEND;TZID=America/Detroit:20260612T120000
DTSTAMP:20260422T133228
CREATED:20260415T151630Z
LAST-MODIFIED:20260415T151632Z
UID:58856-1781114400-1781265600@eodetroit.com
SUMMARY:Scaling Up Experience\, Curated by EO Detroit
DESCRIPTION:The Scaling Up Experience is designed for leadership teams serious about scaling with clarity\, discipline\, and speed. Over the course of one and a half days\, you will step away from daily operations and into a room filled with ambitious peers\, strategic thinkers\, and world-class thought leaders to focus on what truly drives enterprise value: execution\, innovation\, and scalable growth. \n\n\n\nExpect practical frameworks\, elevated conversations\, and forward-looking insights from renowned keynote speakers shaping the future of business. This is not theory. It is applied strategy designed for companies committed to their next stage of scaling up their business. If you are building a business meant to endure and you want to see acceleration in your growth\, this is where you belong.
URL:https://eodetroit.com/event/scaling-up-experience-curated-by-eo-detroit/
ATTACH;FMTTYPE=image/png:https://eodetroit.com/wp-content/uploads/2026/04/Screenshot-227.png
END:VEVENT
END:VCALENDAR