BEGIN:VCALENDAR
VERSION:2.0
PRODID:-//EO Detroit - ECPv6.15.15//NONSGML v1.0//EN
CALSCALE:GREGORIAN
METHOD:PUBLISH
X-WR-CALNAME:EO Detroit
X-ORIGINAL-URL:https://eodetroit.com
X-WR-CALDESC:Events for EO Detroit
REFRESH-INTERVAL;VALUE=DURATION:PT1H
X-Robots-Tag:noindex
X-PUBLISHED-TTL:PT1H
BEGIN:VTIMEZONE
TZID:America/Detroit
BEGIN:DAYLIGHT
TZOFFSETFROM:-0500
TZOFFSETTO:-0400
TZNAME:EDT
DTSTART:20250309T070000
END:DAYLIGHT
BEGIN:STANDARD
TZOFFSETFROM:-0400
TZOFFSETTO:-0500
TZNAME:EST
DTSTART:20251102T060000
END:STANDARD
BEGIN:DAYLIGHT
TZOFFSETFROM:-0500
TZOFFSETTO:-0400
TZNAME:EDT
DTSTART:20260308T070000
END:DAYLIGHT
BEGIN:STANDARD
TZOFFSETFROM:-0400
TZOFFSETTO:-0500
TZNAME:EST
DTSTART:20261101T060000
END:STANDARD
BEGIN:DAYLIGHT
TZOFFSETFROM:-0500
TZOFFSETTO:-0400
TZNAME:EDT
DTSTART:20270314T070000
END:DAYLIGHT
BEGIN:STANDARD
TZOFFSETFROM:-0400
TZOFFSETTO:-0500
TZNAME:EST
DTSTART:20271107T060000
END:STANDARD
END:VTIMEZONE
BEGIN:VEVENT
DTSTART;TZID=America/Detroit:20260603T190000
DTEND;TZID=America/Detroit:20260603T210000
DTSTAMP:20260422T133336
CREATED:20260415T150918Z
LAST-MODIFIED:20260415T150920Z
UID:58851-1780513200-1780520400@eodetroit.com
SUMMARY:New Member Dinner
DESCRIPTION:An intimate dinner gathering exclusively for Members of 3 years or less with the Chapter. You’ll receive the exact location upon registration.
URL:https://eodetroit.com/event/new-member-dinner/
ATTACH;FMTTYPE=image/png:https://eodetroit.com/wp-content/uploads/2026/04/Screenshot-226.png
END:VEVENT
END:VCALENDAR