BEGIN:VCALENDAR
VERSION:2.0
PRODID:-//EO Detroit - ECPv6.15.15//NONSGML v1.0//EN
CALSCALE:GREGORIAN
METHOD:PUBLISH
X-WR-CALNAME:EO Detroit
X-ORIGINAL-URL:https://eodetroit.com
X-WR-CALDESC:Events for EO Detroit
REFRESH-INTERVAL;VALUE=DURATION:PT1H
X-Robots-Tag:noindex
X-PUBLISHED-TTL:PT1H
BEGIN:VTIMEZONE
TZID:America/Detroit
BEGIN:DAYLIGHT
TZOFFSETFROM:-0500
TZOFFSETTO:-0400
TZNAME:EDT
DTSTART:20250309T070000
END:DAYLIGHT
BEGIN:STANDARD
TZOFFSETFROM:-0400
TZOFFSETTO:-0500
TZNAME:EST
DTSTART:20251102T060000
END:STANDARD
BEGIN:DAYLIGHT
TZOFFSETFROM:-0500
TZOFFSETTO:-0400
TZNAME:EDT
DTSTART:20260308T070000
END:DAYLIGHT
BEGIN:STANDARD
TZOFFSETFROM:-0400
TZOFFSETTO:-0500
TZNAME:EST
DTSTART:20261101T060000
END:STANDARD
BEGIN:DAYLIGHT
TZOFFSETFROM:-0500
TZOFFSETTO:-0400
TZNAME:EDT
DTSTART:20270314T070000
END:DAYLIGHT
BEGIN:STANDARD
TZOFFSETFROM:-0400
TZOFFSETTO:-0500
TZNAME:EST
DTSTART:20271107T060000
END:STANDARD
END:VTIMEZONE
BEGIN:VEVENT
DTSTART;TZID=America/Detroit:20260506T080000
DTEND;TZID=America/Detroit:20260506T170000
DTSTAMP:20260422T133838
CREATED:20251124T215746Z
LAST-MODIFIED:20251124T220521Z
UID:58708-1778054400-1778086800@eodetroit.com
SUMMARY:Accelerator Quarterly Learning Day - Execution
DESCRIPTION:EOA Execution Day for 25/26 with Facilitator Mike Bacile.At our upcoming Accelerator Execution Day\, you’ll dive into the essential habits\, frameworks\, and rhythms that drive consistent results and real traction in your business. It’s a practical\, action-packed day to help you get aligned\, accountable\, and focused.
URL:https://eodetroit.com/event/accelerator-quarterly-learning-day-execution-2/
CATEGORIES:Accelerator
ATTACH;FMTTYPE=image/png:https://eodetroit.com/wp-content/uploads/2025/10/9dd4d396-9282-f011-9762-0050569ee39e-e1759367743601.png
END:VEVENT
END:VCALENDAR