BEGIN:VCALENDAR
VERSION:2.0
PRODID:-//EO Detroit - ECPv6.15.15//NONSGML v1.0//EN
CALSCALE:GREGORIAN
METHOD:PUBLISH
X-ORIGINAL-URL:https://eodetroit.com
X-WR-CALDESC:Events for EO Detroit
REFRESH-INTERVAL;VALUE=DURATION:PT1H
X-Robots-Tag:noindex
X-PUBLISHED-TTL:PT1H
BEGIN:VTIMEZONE
TZID:America/Detroit
BEGIN:DAYLIGHT
TZOFFSETFROM:-0500
TZOFFSETTO:-0400
TZNAME:EDT
DTSTART:20250309T070000
END:DAYLIGHT
BEGIN:STANDARD
TZOFFSETFROM:-0400
TZOFFSETTO:-0500
TZNAME:EST
DTSTART:20251102T060000
END:STANDARD
BEGIN:DAYLIGHT
TZOFFSETFROM:-0500
TZOFFSETTO:-0400
TZNAME:EDT
DTSTART:20260308T070000
END:DAYLIGHT
BEGIN:STANDARD
TZOFFSETFROM:-0400
TZOFFSETTO:-0500
TZNAME:EST
DTSTART:20261101T060000
END:STANDARD
BEGIN:DAYLIGHT
TZOFFSETFROM:-0500
TZOFFSETTO:-0400
TZNAME:EDT
DTSTART:20270314T070000
END:DAYLIGHT
BEGIN:STANDARD
TZOFFSETFROM:-0400
TZOFFSETTO:-0500
TZNAME:EST
DTSTART:20271107T060000
END:STANDARD
END:VTIMEZONE
BEGIN:VEVENT
DTSTART;TZID=America/Detroit:20260402T073000
DTEND;TZID=America/Detroit:20260402T153000
DTSTAMP:20260422T105609
CREATED:20260224T154712Z
LAST-MODIFIED:20260224T154713Z
UID:58788-1775115000-1775143800@eodetroit.com
SUMMARY:Forum Training with Trainer Anna Birch\, EO
DESCRIPTION:Forum Training is the foundation of the EO experience — and the key to building a high-impact\, trusted Forum that drives personal and professional growth. \n\n\n\nJoin us on April 2 for a full-day\, immersive Forum Training led by Anna Birch\, designed for both new and experienced members who want to deepen their understanding of the Forum model and strengthen the quality of their Forum experience. \n\n\n\nThis interactive training will walk participants through EO Forum best practices\, tools\, and processes while providing practical guidance on how to create a safe\, confidential\, and high-functioning Forum environment. \n\n\n\nWhat You’ll Learn & Experience: \n\n\n\nContinental Breakfast and Lunch will be provided. \n\n\n\n-The core principles and purpose of EO Forum \n\n\n\n-Forum structure\, roles\, and meeting flow \n\n\n\n-Confidentiality and experience sharing \n\n\n\n-Best practices for building trust\, accountability\, and engagement \n\n\n\n-Common pitfalls and how to avoid them \n\n\n\nWhether you are joining Forum for the first time\, launching a new Forum\, or looking to elevate your current Forum experience\, this training will equip you with the tools and confidence to get the most from EO Forum.
URL:https://eodetroit.com/event/forum-training-with-trainer-anna-birch-eo/
ATTACH;FMTTYPE=image/jpeg:https://eodetroit.com/wp-content/uploads/2026/02/7fdb3f8d-9e39-4fab-afee-db145c11c8da_thumb-1.jpg
END:VEVENT
END:VCALENDAR