BEGIN:VCALENDAR
VERSION:2.0
PRODID:-//EO Detroit - ECPv6.15.15//NONSGML v1.0//EN
CALSCALE:GREGORIAN
METHOD:PUBLISH
X-ORIGINAL-URL:https://eodetroit.com
X-WR-CALDESC:Events for EO Detroit
REFRESH-INTERVAL;VALUE=DURATION:PT1H
X-Robots-Tag:noindex
X-PUBLISHED-TTL:PT1H
BEGIN:VTIMEZONE
TZID:America/Detroit
BEGIN:DAYLIGHT
TZOFFSETFROM:-0500
TZOFFSETTO:-0400
TZNAME:EDT
DTSTART:20250309T070000
END:DAYLIGHT
BEGIN:STANDARD
TZOFFSETFROM:-0400
TZOFFSETTO:-0500
TZNAME:EST
DTSTART:20251102T060000
END:STANDARD
BEGIN:DAYLIGHT
TZOFFSETFROM:-0500
TZOFFSETTO:-0400
TZNAME:EDT
DTSTART:20260308T070000
END:DAYLIGHT
BEGIN:STANDARD
TZOFFSETFROM:-0400
TZOFFSETTO:-0500
TZNAME:EST
DTSTART:20261101T060000
END:STANDARD
BEGIN:DAYLIGHT
TZOFFSETFROM:-0500
TZOFFSETTO:-0400
TZNAME:EDT
DTSTART:20270314T070000
END:DAYLIGHT
BEGIN:STANDARD
TZOFFSETFROM:-0400
TZOFFSETTO:-0500
TZNAME:EST
DTSTART:20271107T060000
END:STANDARD
END:VTIMEZONE
BEGIN:VEVENT
DTSTART;TZID=America/Detroit:20260325T173000
DTEND;TZID=America/Detroit:20260325T203000
DTSTAMP:20260422T122430
CREATED:20251218T151234Z
LAST-MODIFIED:20251218T161221Z
UID:58730-1774459800-1774470600@eodetroit.com
SUMMARY:New Member Mixer
DESCRIPTION:You step onto the stage… and the crowd goes wild. That’s the energy we’re bringing to the EO Detroit New Member Mixer! \n\n\n\nJoin us for a night where great food\, great people\, and great vibes take center stage. We’re welcoming our newest members with an experience that’s laid-back\, lively\, and guaranteed to get you smiling.
URL:https://eodetroit.com/event/eo-detroits-accelerator-mixer-2/
CATEGORIES:Social
ATTACH;FMTTYPE=image/jpeg:https://eodetroit.com/wp-content/uploads/2025/12/168-crab.jpg
END:VEVENT
END:VCALENDAR