BEGIN:VCALENDAR
VERSION:2.0
PRODID:-//EO Detroit - ECPv6.15.15//NONSGML v1.0//EN
CALSCALE:GREGORIAN
METHOD:PUBLISH
X-ORIGINAL-URL:https://eodetroit.com
X-WR-CALDESC:Events for EO Detroit
REFRESH-INTERVAL;VALUE=DURATION:PT1H
X-Robots-Tag:noindex
X-PUBLISHED-TTL:PT1H
BEGIN:VTIMEZONE
TZID:America/Detroit
BEGIN:DAYLIGHT
TZOFFSETFROM:-0500
TZOFFSETTO:-0400
TZNAME:EDT
DTSTART:20240310T070000
END:DAYLIGHT
BEGIN:STANDARD
TZOFFSETFROM:-0400
TZOFFSETTO:-0500
TZNAME:EST
DTSTART:20241103T060000
END:STANDARD
BEGIN:DAYLIGHT
TZOFFSETFROM:-0500
TZOFFSETTO:-0400
TZNAME:EDT
DTSTART:20250309T070000
END:DAYLIGHT
BEGIN:STANDARD
TZOFFSETFROM:-0400
TZOFFSETTO:-0500
TZNAME:EST
DTSTART:20251102T060000
END:STANDARD
BEGIN:DAYLIGHT
TZOFFSETFROM:-0500
TZOFFSETTO:-0400
TZNAME:EDT
DTSTART:20260308T070000
END:DAYLIGHT
BEGIN:STANDARD
TZOFFSETFROM:-0400
TZOFFSETTO:-0500
TZNAME:EST
DTSTART:20261101T060000
END:STANDARD
END:VTIMEZONE
BEGIN:VEVENT
DTSTART;TZID=America/Detroit:20250718T110000
DTEND;TZID=America/Detroit:20250718T140000
DTSTAMP:20260423T023217
CREATED:20250709T201643Z
LAST-MODIFIED:20250709T201645Z
UID:58584-1752836400-1752847200@eodetroit.com
SUMMARY:History in the Brewing: EO Detroit Women's first Hosted High Tea
DESCRIPTION:EO Detroit family\, this is a moment! We are inviting you to be a part of the first ever EO Detroit event hosted by the women of our chapter. Yes\, it’s High Tea—but this isn’t about sipping tea\, it’s about making history. \n\n\n\nThis is for anyone who values meaningful connection\, leadership with grace\, and moments that create legacy. Gents\, you’re more than welcome\, this table is for all. \n\n\n\nMembers and a guest only. 
URL:https://eodetroit.com/event/history-in-the-brewing-eo-detroit-womens-first-hosted-high-tea/
LOCATION:Lily’s and Elise\, 19037 Livernois\, Detroit\, Michigan\, 48221
CATEGORIES:Social
ATTACH;FMTTYPE=image/jpeg:https://eodetroit.com/wp-content/uploads/2025/07/lilys.jpg
END:VEVENT
END:VCALENDAR